BEGIN:VCALENDAR
VERSION:2.0
PRODID:-//Turnverein Endingen e.V. - ECPv6.15.20//NONSGML v1.0//EN
CALSCALE:GREGORIAN
METHOD:PUBLISH
X-WR-CALNAME:Turnverein Endingen e.V.
X-ORIGINAL-URL:https://www.turnverein-endingen.com
X-WR-CALDESC:Veranstaltungen für Turnverein Endingen e.V.
REFRESH-INTERVAL;VALUE=DURATION:PT1H
X-Robots-Tag:noindex
X-PUBLISHED-TTL:PT1H
BEGIN:VTIMEZONE
TZID:Europe/Paris
BEGIN:DAYLIGHT
TZOFFSETFROM:+0100
TZOFFSETTO:+0200
TZNAME:CEST
DTSTART:20240331T010000
END:DAYLIGHT
BEGIN:STANDARD
TZOFFSETFROM:+0200
TZOFFSETTO:+0100
TZNAME:CET
DTSTART:20241027T010000
END:STANDARD
BEGIN:DAYLIGHT
TZOFFSETFROM:+0100
TZOFFSETTO:+0200
TZNAME:CEST
DTSTART:20250330T010000
END:DAYLIGHT
BEGIN:STANDARD
TZOFFSETFROM:+0200
TZOFFSETTO:+0100
TZNAME:CET
DTSTART:20251026T010000
END:STANDARD
BEGIN:DAYLIGHT
TZOFFSETFROM:+0100
TZOFFSETTO:+0200
TZNAME:CEST
DTSTART:20260329T010000
END:DAYLIGHT
BEGIN:STANDARD
TZOFFSETFROM:+0200
TZOFFSETTO:+0100
TZNAME:CET
DTSTART:20261025T010000
END:STANDARD
END:VTIMEZONE
BEGIN:VEVENT
DTSTART;TZID=Europe/Paris:20250718T200000
DTEND;TZID=Europe/Paris:20250718T210000
DTSTAMP:20260426T032042
CREATED:20250402T182245Z
LAST-MODIFIED:20250703T200439Z
UID:3886-1752868800-1752872400@www.turnverein-endingen.com
SUMMARY:Sportabzeichen 2025 Turnen - Termin fällt aus - Ersatztermin wird bekannt gegeben
DESCRIPTION:Neueste Info: \nHalle ist an diesem Tag gesperrt – Ersatztermin wird bekannt gegeben. \n  \nSportabzeichen 2025 \nTreffpunkt: Stadthalle Endingen. \nNähere Infos unter: \nBrigitte Hohenegger \n+49 151 / 527 685 79
URL:https://www.turnverein-endingen.com/event/sportabzeichen-2025-turnen/
END:VEVENT
END:VCALENDAR