BEGIN:VCALENDAR
VERSION:2.0
PRODID:-//Turnverein Endingen e.V. - ECPv6.15.20//NONSGML v1.0//EN
CALSCALE:GREGORIAN
METHOD:PUBLISH
X-ORIGINAL-URL:https://www.turnverein-endingen.com
X-WR-CALDESC:Veranstaltungen für Turnverein Endingen e.V.
REFRESH-INTERVAL;VALUE=DURATION:PT1H
X-Robots-Tag:noindex
X-PUBLISHED-TTL:PT1H
BEGIN:VTIMEZONE
TZID:Europe/Paris
BEGIN:DAYLIGHT
TZOFFSETFROM:+0100
TZOFFSETTO:+0200
TZNAME:CEST
DTSTART:20250330T010000
END:DAYLIGHT
BEGIN:STANDARD
TZOFFSETFROM:+0200
TZOFFSETTO:+0100
TZNAME:CET
DTSTART:20251026T010000
END:STANDARD
BEGIN:DAYLIGHT
TZOFFSETFROM:+0100
TZOFFSETTO:+0200
TZNAME:CEST
DTSTART:20260329T010000
END:DAYLIGHT
BEGIN:STANDARD
TZOFFSETFROM:+0200
TZOFFSETTO:+0100
TZNAME:CET
DTSTART:20261025T010000
END:STANDARD
BEGIN:DAYLIGHT
TZOFFSETFROM:+0100
TZOFFSETTO:+0200
TZNAME:CEST
DTSTART:20270328T010000
END:DAYLIGHT
BEGIN:STANDARD
TZOFFSETFROM:+0200
TZOFFSETTO:+0100
TZNAME:CET
DTSTART:20271031T010000
END:STANDARD
END:VTIMEZONE
BEGIN:VEVENT
DTSTART;VALUE=DATE:20260606
DTEND;VALUE=DATE:20260607
DTSTAMP:20260424T210514
CREATED:20260323T184230Z
LAST-MODIFIED:20260323T184230Z
UID:4147-1780704000-1780790399@www.turnverein-endingen.com
SUMMARY:Sprintmeeting in Kirchzarten
DESCRIPTION:Nähere Infos unter: \nRico Degenkolb:\n07642 / 917 48 58\n0176 / 475 01 048 \nPatrick Saar:\n07642 / 929 48 67\n0172 / 620 97 26
URL:https://www.turnverein-endingen.com/event/sprintmeeting-in-kirchzarten/
END:VEVENT
BEGIN:VEVENT
DTSTART;VALUE=DATE:20260610
DTEND;VALUE=DATE:20260611
DTSTAMP:20260424T210514
CREATED:20260323T184309Z
LAST-MODIFIED:20260323T184309Z
UID:4149-1781049600-1781135999@www.turnverein-endingen.com
SUMMARY:Abendsportfest in Malterdingen
DESCRIPTION:Nähere Infos unter: \nRico Degenkolb:\n07642 / 917 48 58\n0176 / 475 01 048 \nPatrick Saar:\n07642 / 929 48 67\n0172 / 620 97 26
URL:https://www.turnverein-endingen.com/event/abendsportfest-in-malterdingen/
END:VEVENT
BEGIN:VEVENT
DTSTART;VALUE=DATE:20260621
DTEND;VALUE=DATE:20260622
DTSTAMP:20260424T210514
CREATED:20260323T184347Z
LAST-MODIFIED:20260323T184347Z
UID:4151-1782000000-1782086399@www.turnverein-endingen.com
SUMMARY:Eichberglauf in Glottertal
DESCRIPTION:Nähere Infos unter: \nRico Degenkolb:\n07642 / 917 48 58\n0176 / 475 01 048 \nPatrick Saar:\n07642 / 929 48 67\n0172 / 620 97 26
URL:https://www.turnverein-endingen.com/event/eichberglauf-in-glottertal/
END:VEVENT
BEGIN:VEVENT
DTSTART;VALUE=DATE:20260624
DTEND;VALUE=DATE:20260625
DTSTAMP:20260424T210514
CREATED:20260323T184433Z
LAST-MODIFIED:20260323T184433Z
UID:4153-1782259200-1782345599@www.turnverein-endingen.com
SUMMARY:Kontis Laufnacht im Seepark in Freiburg
DESCRIPTION:Nähere Infos unter: \nRico Degenkolb:\n07642 / 917 48 58\n0176 / 475 01 048 \nPatrick Saar:\n07642 / 929 48 67\n0172 / 620 97 26
URL:https://www.turnverein-endingen.com/event/kontis-laufnacht-im-seepark-in-freiburg/
END:VEVENT
BEGIN:VEVENT
DTSTART;VALUE=DATE:20260626
DTEND;VALUE=DATE:20260627
DTSTAMP:20260424T210514
CREATED:20260323T184525Z
LAST-MODIFIED:20260323T184525Z
UID:4155-1782432000-1782518399@www.turnverein-endingen.com
SUMMARY:Stadtlauf in Emmendingen
DESCRIPTION:Nähere Infos unter: \nRico Degenkolb:\n07642 / 917 48 58\n0176 / 475 01 048 \nPatrick Saar:\n07642 / 929 48 67\n0172 / 620 97 26
URL:https://www.turnverein-endingen.com/event/stadtlauf-in-emmendingen/
END:VEVENT
BEGIN:VEVENT
DTSTART;VALUE=DATE:20260627
DTEND;VALUE=DATE:20260628
DTSTAMP:20260424T210514
CREATED:20260323T184605Z
LAST-MODIFIED:20260323T184605Z
UID:4157-1782518400-1782604799@www.turnverein-endingen.com
SUMMARY:Mitternachtslauf (MC) in Biengen
DESCRIPTION:Nähere Infos unter: \nRico Degenkolb:\n07642 / 917 48 58\n0176 / 475 01 048 \nPatrick Saar:\n07642 / 929 48 67\n0172 / 620 97 26
URL:https://www.turnverein-endingen.com/event/mitternachtslauf-mc-in-biengen/
END:VEVENT
END:VCALENDAR